BEGIN:VCALENDAR
VERSION:2.0
PRODID:-//Village of Colonie, NY - ECPv6.15.20//NONSGML v1.0//EN
CALSCALE:GREGORIAN
METHOD:PUBLISH
X-ORIGINAL-URL:https://colonievillage.gov
X-WR-CALDESC:Events for Village of Colonie, NY
REFRESH-INTERVAL;VALUE=DURATION:PT1H
X-Robots-Tag:noindex
X-PUBLISHED-TTL:PT1H
BEGIN:VTIMEZONE
TZID:America/New_York
BEGIN:DAYLIGHT
TZOFFSETFROM:-0500
TZOFFSETTO:-0400
TZNAME:EDT
DTSTART:20250309T070000
END:DAYLIGHT
BEGIN:STANDARD
TZOFFSETFROM:-0400
TZOFFSETTO:-0500
TZNAME:EST
DTSTART:20251102T060000
END:STANDARD
BEGIN:DAYLIGHT
TZOFFSETFROM:-0500
TZOFFSETTO:-0400
TZNAME:EDT
DTSTART:20260308T070000
END:DAYLIGHT
BEGIN:STANDARD
TZOFFSETFROM:-0400
TZOFFSETTO:-0500
TZNAME:EST
DTSTART:20261101T060000
END:STANDARD
BEGIN:DAYLIGHT
TZOFFSETFROM:-0500
TZOFFSETTO:-0400
TZNAME:EDT
DTSTART:20270314T070000
END:DAYLIGHT
BEGIN:STANDARD
TZOFFSETFROM:-0400
TZOFFSETTO:-0500
TZNAME:EST
DTSTART:20271107T060000
END:STANDARD
END:VTIMEZONE
BEGIN:VEVENT
DTSTART;TZID=America/New_York:20260302T183000
DTEND;TZID=America/New_York:20260302T193000
DTSTAMP:20260424T041056
CREATED:20260105T200233Z
LAST-MODIFIED:20260105T200233Z
UID:10000305-1772476200-1772479800@colonievillage.gov
SUMMARY:Village Board Meeting
DESCRIPTION:The Mayor and the Board of Trustees meet to go over Village issues\, policies\, local laws and resident input. All are welcome to attend.
URL:https://colonievillage.gov/event/village-board-meeting/2026-03-02/
LOCATION:The Village Hall\, 2 Thunder Road\, Albany\, NY\, 12205\, United States
CATEGORIES:Mayor/ Board Trustee Meeting
END:VEVENT
END:VCALENDAR