BEGIN:VCALENDAR
VERSION:2.0
PRODID:-//Village of Colonie, NY - ECPv6.15.20//NONSGML v1.0//EN
CALSCALE:GREGORIAN
METHOD:PUBLISH
X-WR-CALNAME:Village of Colonie, NY
X-ORIGINAL-URL:https://colonievillage.gov
X-WR-CALDESC:Events for Village of Colonie, NY
REFRESH-INTERVAL;VALUE=DURATION:PT1H
X-Robots-Tag:noindex
X-PUBLISHED-TTL:PT1H
BEGIN:VTIMEZONE
TZID:America/New_York
BEGIN:DAYLIGHT
TZOFFSETFROM:-0500
TZOFFSETTO:-0400
TZNAME:EDT
DTSTART:20250309T070000
END:DAYLIGHT
BEGIN:STANDARD
TZOFFSETFROM:-0400
TZOFFSETTO:-0500
TZNAME:EST
DTSTART:20251102T060000
END:STANDARD
BEGIN:DAYLIGHT
TZOFFSETFROM:-0500
TZOFFSETTO:-0400
TZNAME:EDT
DTSTART:20260308T070000
END:DAYLIGHT
BEGIN:STANDARD
TZOFFSETFROM:-0400
TZOFFSETTO:-0500
TZNAME:EST
DTSTART:20261101T060000
END:STANDARD
BEGIN:DAYLIGHT
TZOFFSETFROM:-0500
TZOFFSETTO:-0400
TZNAME:EDT
DTSTART:20270314T070000
END:DAYLIGHT
BEGIN:STANDARD
TZOFFSETFROM:-0400
TZOFFSETTO:-0500
TZNAME:EST
DTSTART:20271107T060000
END:STANDARD
END:VTIMEZONE
BEGIN:VEVENT
DTSTART;TZID=America/New_York:20260106T183000
DTEND;TZID=America/New_York:20260106T193000
DTSTAMP:20260419T131604
CREATED:20260105T194323Z
LAST-MODIFIED:20260105T195126Z
UID:10000123-1767724200-1767727800@colonievillage.gov
SUMMARY:Planning Commission Meeting
DESCRIPTION:The Village of Colonie Planning Commission is made up of a 7 member Commission of Village residents. The Planning Commission is the authorizing body and empowered to approve all plans\, plots and plats of any subdivision of lands showing lots\, blocks or site\, with or without new streets or highways in the Village of Colonie. The Commission is responsible for approving or disproving any new owners and tenants within the Village and to preserve the health\, safety and welfare of the community.
URL:https://colonievillage.gov/event/planning-commission-meeting/2026-01-06/
LOCATION:The Village Hall\, 2 Thunder Road\, Albany\, NY\, 12205\, United States
CATEGORIES:Planning Commission
END:VEVENT
BEGIN:VEVENT
DTSTART;TZID=America/New_York:20260120T183000
DTEND;TZID=America/New_York:20260120T183000
DTSTAMP:20260419T131604
CREATED:20260105T194443Z
LAST-MODIFIED:20260105T194503Z
UID:10000003-1768933800-1768933800@colonievillage.gov
SUMMARY:Planning Commission Meeting
DESCRIPTION:The Village of Colonie Planning Commission is made up of a 7 member Commission of Village residents. The Planning Commission is the authorizing body and empowered to approve all plans\, plots and plats of any subdivision of lands showing lots\, blocks or site\, with or without new streets or highways in the Village of Colonie. The Commission is responsible for approving or disproving any new owners and tenants within the Village and to preserve the health\, safety and welfare of the community.
URL:https://colonievillage.gov/event/planning-commission-meeting-2/2026-01-20/
LOCATION:The Village Hall\, 2 Thunder Road\, Albany\, NY\, 12205\, United States
CATEGORIES:Planning Commission
END:VEVENT
END:VCALENDAR