BEGIN:VCALENDAR
VERSION:2.0
PRODID:-//Village of Colonie, NY - ECPv6.15.20//NONSGML v1.0//EN
CALSCALE:GREGORIAN
METHOD:PUBLISH
X-ORIGINAL-URL:https://colonievillage.gov
X-WR-CALDESC:Events for Village of Colonie, NY
REFRESH-INTERVAL;VALUE=DURATION:PT1H
X-Robots-Tag:noindex
X-PUBLISHED-TTL:PT1H
BEGIN:VTIMEZONE
TZID:America/New_York
BEGIN:DAYLIGHT
TZOFFSETFROM:-0500
TZOFFSETTO:-0400
TZNAME:EDT
DTSTART:20250309T070000
END:DAYLIGHT
BEGIN:STANDARD
TZOFFSETFROM:-0400
TZOFFSETTO:-0500
TZNAME:EST
DTSTART:20251102T060000
END:STANDARD
BEGIN:DAYLIGHT
TZOFFSETFROM:-0500
TZOFFSETTO:-0400
TZNAME:EDT
DTSTART:20260308T070000
END:DAYLIGHT
BEGIN:STANDARD
TZOFFSETFROM:-0400
TZOFFSETTO:-0500
TZNAME:EST
DTSTART:20261101T060000
END:STANDARD
BEGIN:DAYLIGHT
TZOFFSETFROM:-0500
TZOFFSETTO:-0400
TZNAME:EDT
DTSTART:20270314T070000
END:DAYLIGHT
BEGIN:STANDARD
TZOFFSETFROM:-0400
TZOFFSETTO:-0500
TZNAME:EST
DTSTART:20271107T060000
END:STANDARD
END:VTIMEZONE
BEGIN:VEVENT
DTSTART;TZID=America/New_York:20260505T183000
DTEND;TZID=America/New_York:20260505T193000
DTSTAMP:20260422T142130
CREATED:20260105T194323Z
LAST-MODIFIED:20260105T195126Z
UID:10000127-1778005800-1778009400@colonievillage.gov
SUMMARY:Planning Commission Meeting
DESCRIPTION:The Village of Colonie Planning Commission is made up of a 7 member Commission of Village residents. The Planning Commission is the authorizing body and empowered to approve all plans\, plots and plats of any subdivision of lands showing lots\, blocks or site\, with or without new streets or highways in the Village of Colonie. The Commission is responsible for approving or disproving any new owners and tenants within the Village and to preserve the health\, safety and welfare of the community.
URL:https://colonievillage.gov/event/planning-commission-meeting/2026-05-05/
LOCATION:The Village Hall\, 2 Thunder Road\, Albany\, NY\, 12205\, United States
CATEGORIES:Planning Commission
END:VEVENT
BEGIN:VEVENT
DTSTART;TZID=America/New_York:20260506T183000
DTEND;TZID=America/New_York:20260506T193000
DTSTAMP:20260422T142130
CREATED:20260105T195551Z
LAST-MODIFIED:20260105T195551Z
UID:10000186-1778092200-1778095800@colonievillage.gov
SUMMARY:Village Zoning Board of Appeals
DESCRIPTION:The Zoning Board of Appeals is made up of a 5 member Board of Village residents. The Zoning Board of Appeals is the authorizing body to determine whether to grant or deny variance applications. The ZBA balances the hardship to the application\, the community and other persons of not granting the variance against the adverse impact on the health\, safety and welfare of persons affected\, the adverse impact on the property affected and any other adverse impacts of granting the special variance.
URL:https://colonievillage.gov/event/village-zoning-board-of-appeals/2026-05-06/
LOCATION:The Village Hall\, 2 Thunder Road\, Albany\, NY\, 12205\, United States
CATEGORIES:Zoning Board of Appeals
END:VEVENT
BEGIN:VEVENT
DTSTART;TZID=America/New_York:20260514T183000
DTEND;TZID=America/New_York:20260514T193000
DTSTAMP:20260422T142130
CREATED:20260105T194629Z
LAST-MODIFIED:20260105T195236Z
UID:10000067-1778783400-1778787000@colonievillage.gov
SUMMARY:Traffic Advisory Committee Meeting
DESCRIPTION:The Traffic Advisory Committee is made up of a 5 member Committee of Village residents. The Traffic Advisory Committee reviews and discusses matters raised by Village Residents and advises the Mayor and Board Trustees of possible solutions.
URL:https://colonievillage.gov/event/traffic-advisory-committee-meeting/2026-05-14/
LOCATION:The Village Hall\, 2 Thunder Road\, Albany\, NY\, 12205\, United States
CATEGORIES:Traffic Advisory
END:VEVENT
BEGIN:VEVENT
DTSTART;TZID=America/New_York:20260518T183000
DTEND;TZID=America/New_York:20260518T193000
DTSTAMP:20260422T142130
CREATED:20260105T200409Z
LAST-MODIFIED:20260105T200409Z
UID:10000427-1779129000-1779132600@colonievillage.gov
SUMMARY:Village Board Meeting
DESCRIPTION:The Mayor and the Board of Trustees meet to go over Village issues\, policies\, local laws and resident input. All are welcome to attend.
URL:https://colonievillage.gov/event/village-board-meeting-2/2026-05-18/
LOCATION:The Village Hall\, 2 Thunder Road\, Albany\, NY\, 12205\, United States
CATEGORIES:Mayor/ Board Trustee Meeting
END:VEVENT
BEGIN:VEVENT
DTSTART;TZID=America/New_York:20260519T183000
DTEND;TZID=America/New_York:20260519T183000
DTSTAMP:20260422T142130
CREATED:20260105T194443Z
LAST-MODIFIED:20260105T194503Z
UID:10000007-1779215400-1779215400@colonievillage.gov
SUMMARY:Planning Commission Meeting
DESCRIPTION:The Village of Colonie Planning Commission is made up of a 7 member Commission of Village residents. The Planning Commission is the authorizing body and empowered to approve all plans\, plots and plats of any subdivision of lands showing lots\, blocks or site\, with or without new streets or highways in the Village of Colonie. The Commission is responsible for approving or disproving any new owners and tenants within the Village and to preserve the health\, safety and welfare of the community.
URL:https://colonievillage.gov/event/planning-commission-meeting-2/2026-05-19/
LOCATION:The Village Hall\, 2 Thunder Road\, Albany\, NY\, 12205\, United States
CATEGORIES:Planning Commission
END:VEVENT
BEGIN:VEVENT
DTSTART;VALUE=DATE:20260525
DTEND;VALUE=DATE:20260526
DTSTAMP:20260422T142130
CREATED:20260105T200951Z
LAST-MODIFIED:20260105T200951Z
UID:10000485-1779667200-1779753599@colonievillage.gov
SUMMARY:Memorial Day (Village Closed)
DESCRIPTION:
URL:https://colonievillage.gov/event/memorial-day-village-closed/
LOCATION:NY
CATEGORIES:Holiday
END:VEVENT
BEGIN:VEVENT
DTSTART;TZID=America/New_York:20260528T183000
DTEND;TZID=America/New_York:20260528T193000
DTSTAMP:20260422T142130
CREATED:20260105T195814Z
LAST-MODIFIED:20260105T195845Z
UID:10000247-1779993000-1779996600@colonievillage.gov
SUMMARY:Village Sign Review Board
DESCRIPTION:The Sign Review Board is made up of a 5 member Board of Village residents. The purpose of this Board is to provide a process by which special exemption sign permits may be issued consistent with the intent of the special exemption sign permit regulations set forth in the Village of Colonie Code book. The Board hears any appeals on questions of alleged error in any order or determination of the Building Department involving the interpretation of the provisions of the Village of Colonie Code.
URL:https://colonievillage.gov/event/village-sign-review-board/2026-05-28/
LOCATION:The Village Hall\, 2 Thunder Road\, Albany\, NY\, 12205\, United States
CATEGORIES:Sign Review Board
END:VEVENT
BEGIN:VEVENT
DTSTART;TZID=America/New_York:20260601T183000
DTEND;TZID=America/New_York:20260601T193000
DTSTAMP:20260422T142130
CREATED:20260105T200233Z
LAST-MODIFIED:20260105T200233Z
UID:10000308-1780338600-1780342200@colonievillage.gov
SUMMARY:Village Board Meeting
DESCRIPTION:The Mayor and the Board of Trustees meet to go over Village issues\, policies\, local laws and resident input. All are welcome to attend.
URL:https://colonievillage.gov/event/village-board-meeting/2026-06-01/
LOCATION:The Village Hall\, 2 Thunder Road\, Albany\, NY\, 12205\, United States
CATEGORIES:Mayor/ Board Trustee Meeting
END:VEVENT
BEGIN:VEVENT
DTSTART;TZID=America/New_York:20260602T183000
DTEND;TZID=America/New_York:20260602T193000
DTSTAMP:20260422T142130
CREATED:20260105T194323Z
LAST-MODIFIED:20260105T195126Z
UID:10000128-1780425000-1780428600@colonievillage.gov
SUMMARY:Planning Commission Meeting
DESCRIPTION:The Village of Colonie Planning Commission is made up of a 7 member Commission of Village residents. The Planning Commission is the authorizing body and empowered to approve all plans\, plots and plats of any subdivision of lands showing lots\, blocks or site\, with or without new streets or highways in the Village of Colonie. The Commission is responsible for approving or disproving any new owners and tenants within the Village and to preserve the health\, safety and welfare of the community.
URL:https://colonievillage.gov/event/planning-commission-meeting/2026-06-02/
LOCATION:The Village Hall\, 2 Thunder Road\, Albany\, NY\, 12205\, United States
CATEGORIES:Planning Commission
END:VEVENT
BEGIN:VEVENT
DTSTART;TZID=America/New_York:20260603T183000
DTEND;TZID=America/New_York:20260603T193000
DTSTAMP:20260422T142130
CREATED:20260105T195551Z
LAST-MODIFIED:20260105T195551Z
UID:10000187-1780511400-1780515000@colonievillage.gov
SUMMARY:Village Zoning Board of Appeals
DESCRIPTION:The Zoning Board of Appeals is made up of a 5 member Board of Village residents. The Zoning Board of Appeals is the authorizing body to determine whether to grant or deny variance applications. The ZBA balances the hardship to the application\, the community and other persons of not granting the variance against the adverse impact on the health\, safety and welfare of persons affected\, the adverse impact on the property affected and any other adverse impacts of granting the special variance.
URL:https://colonievillage.gov/event/village-zoning-board-of-appeals/2026-06-03/
LOCATION:The Village Hall\, 2 Thunder Road\, Albany\, NY\, 12205\, United States
CATEGORIES:Zoning Board of Appeals
END:VEVENT
BEGIN:VEVENT
DTSTART;TZID=America/New_York:20260611T183000
DTEND;TZID=America/New_York:20260611T193000
DTSTAMP:20260422T142130
CREATED:20260105T194629Z
LAST-MODIFIED:20260105T195236Z
UID:10000068-1781202600-1781206200@colonievillage.gov
SUMMARY:Traffic Advisory Committee Meeting
DESCRIPTION:The Traffic Advisory Committee is made up of a 5 member Committee of Village residents. The Traffic Advisory Committee reviews and discusses matters raised by Village Residents and advises the Mayor and Board Trustees of possible solutions.
URL:https://colonievillage.gov/event/traffic-advisory-committee-meeting/2026-06-11/
LOCATION:The Village Hall\, 2 Thunder Road\, Albany\, NY\, 12205\, United States
CATEGORIES:Traffic Advisory
END:VEVENT
BEGIN:VEVENT
DTSTART;TZID=America/New_York:20260615T183000
DTEND;TZID=America/New_York:20260615T193000
DTSTAMP:20260422T142130
CREATED:20260105T200409Z
LAST-MODIFIED:20260105T200409Z
UID:10000428-1781548200-1781551800@colonievillage.gov
SUMMARY:Village Board Meeting
DESCRIPTION:The Mayor and the Board of Trustees meet to go over Village issues\, policies\, local laws and resident input. All are welcome to attend.
URL:https://colonievillage.gov/event/village-board-meeting-2/2026-06-15/
LOCATION:The Village Hall\, 2 Thunder Road\, Albany\, NY\, 12205\, United States
CATEGORIES:Mayor/ Board Trustee Meeting
END:VEVENT
BEGIN:VEVENT
DTSTART;TZID=America/New_York:20260616T183000
DTEND;TZID=America/New_York:20260616T183000
DTSTAMP:20260422T142130
CREATED:20260105T194443Z
LAST-MODIFIED:20260105T194503Z
UID:10000008-1781634600-1781634600@colonievillage.gov
SUMMARY:Planning Commission Meeting
DESCRIPTION:The Village of Colonie Planning Commission is made up of a 7 member Commission of Village residents. The Planning Commission is the authorizing body and empowered to approve all plans\, plots and plats of any subdivision of lands showing lots\, blocks or site\, with or without new streets or highways in the Village of Colonie. The Commission is responsible for approving or disproving any new owners and tenants within the Village and to preserve the health\, safety and welfare of the community.
URL:https://colonievillage.gov/event/planning-commission-meeting-2/2026-06-16/
LOCATION:The Village Hall\, 2 Thunder Road\, Albany\, NY\, 12205\, United States
CATEGORIES:Planning Commission
END:VEVENT
BEGIN:VEVENT
DTSTART;VALUE=DATE:20260619
DTEND;VALUE=DATE:20260620
DTSTAMP:20260422T142130
CREATED:20260105T201044Z
LAST-MODIFIED:20260105T201044Z
UID:10000486-1781827200-1781913599@colonievillage.gov
SUMMARY:Juneteenth (Village Closed)
DESCRIPTION:
URL:https://colonievillage.gov/event/juneteenth-village-closed/
LOCATION:NY
CATEGORIES:Holiday
END:VEVENT
BEGIN:VEVENT
DTSTART;TZID=America/New_York:20260625T183000
DTEND;TZID=America/New_York:20260625T193000
DTSTAMP:20260422T142130
CREATED:20260105T195814Z
LAST-MODIFIED:20260105T195845Z
UID:10000248-1782412200-1782415800@colonievillage.gov
SUMMARY:Village Sign Review Board
DESCRIPTION:The Sign Review Board is made up of a 5 member Board of Village residents. The purpose of this Board is to provide a process by which special exemption sign permits may be issued consistent with the intent of the special exemption sign permit regulations set forth in the Village of Colonie Code book. The Board hears any appeals on questions of alleged error in any order or determination of the Building Department involving the interpretation of the provisions of the Village of Colonie Code.
URL:https://colonievillage.gov/event/village-sign-review-board/2026-06-25/
LOCATION:The Village Hall\, 2 Thunder Road\, Albany\, NY\, 12205\, United States
CATEGORIES:Sign Review Board
END:VEVENT
BEGIN:VEVENT
DTSTART;TZID=America/New_York:20260701T183000
DTEND;TZID=America/New_York:20260701T193000
DTSTAMP:20260422T142130
CREATED:20260105T195551Z
LAST-MODIFIED:20260105T195551Z
UID:10000188-1782930600-1782934200@colonievillage.gov
SUMMARY:Village Zoning Board of Appeals
DESCRIPTION:The Zoning Board of Appeals is made up of a 5 member Board of Village residents. The Zoning Board of Appeals is the authorizing body to determine whether to grant or deny variance applications. The ZBA balances the hardship to the application\, the community and other persons of not granting the variance against the adverse impact on the health\, safety and welfare of persons affected\, the adverse impact on the property affected and any other adverse impacts of granting the special variance.
URL:https://colonievillage.gov/event/village-zoning-board-of-appeals/2026-07-01/
LOCATION:The Village Hall\, 2 Thunder Road\, Albany\, NY\, 12205\, United States
CATEGORIES:Zoning Board of Appeals
END:VEVENT
BEGIN:VEVENT
DTSTART;VALUE=DATE:20260703
DTEND;VALUE=DATE:20260704
DTSTAMP:20260422T142130
CREATED:20260105T201117Z
LAST-MODIFIED:20260105T201117Z
UID:10000487-1783036800-1783123199@colonievillage.gov
SUMMARY:Independence Day (Village Closed)
DESCRIPTION:
URL:https://colonievillage.gov/event/independence-day-village-closed/
LOCATION:NY
CATEGORIES:Holiday
END:VEVENT
BEGIN:VEVENT
DTSTART;TZID=America/New_York:20260706T183000
DTEND;TZID=America/New_York:20260706T193000
DTSTAMP:20260422T142130
CREATED:20260105T200233Z
LAST-MODIFIED:20260105T200233Z
UID:10000309-1783362600-1783366200@colonievillage.gov
SUMMARY:Village Board Meeting
DESCRIPTION:The Mayor and the Board of Trustees meet to go over Village issues\, policies\, local laws and resident input. All are welcome to attend.
URL:https://colonievillage.gov/event/village-board-meeting/2026-07-06/
LOCATION:The Village Hall\, 2 Thunder Road\, Albany\, NY\, 12205\, United States
CATEGORIES:Mayor/ Board Trustee Meeting
END:VEVENT
BEGIN:VEVENT
DTSTART;TZID=America/New_York:20260707T183000
DTEND;TZID=America/New_York:20260707T193000
DTSTAMP:20260422T142130
CREATED:20260105T194323Z
LAST-MODIFIED:20260105T195126Z
UID:10000129-1783449000-1783452600@colonievillage.gov
SUMMARY:Planning Commission Meeting
DESCRIPTION:The Village of Colonie Planning Commission is made up of a 7 member Commission of Village residents. The Planning Commission is the authorizing body and empowered to approve all plans\, plots and plats of any subdivision of lands showing lots\, blocks or site\, with or without new streets or highways in the Village of Colonie. The Commission is responsible for approving or disproving any new owners and tenants within the Village and to preserve the health\, safety and welfare of the community.
URL:https://colonievillage.gov/event/planning-commission-meeting/2026-07-07/
LOCATION:The Village Hall\, 2 Thunder Road\, Albany\, NY\, 12205\, United States
CATEGORIES:Planning Commission
END:VEVENT
BEGIN:VEVENT
DTSTART;TZID=America/New_York:20260709T183000
DTEND;TZID=America/New_York:20260709T193000
DTSTAMP:20260422T142130
CREATED:20260105T194629Z
LAST-MODIFIED:20260105T195236Z
UID:10000069-1783621800-1783625400@colonievillage.gov
SUMMARY:Traffic Advisory Committee Meeting
DESCRIPTION:The Traffic Advisory Committee is made up of a 5 member Committee of Village residents. The Traffic Advisory Committee reviews and discusses matters raised by Village Residents and advises the Mayor and Board Trustees of possible solutions.
URL:https://colonievillage.gov/event/traffic-advisory-committee-meeting/2026-07-09/
LOCATION:The Village Hall\, 2 Thunder Road\, Albany\, NY\, 12205\, United States
CATEGORIES:Traffic Advisory
END:VEVENT
BEGIN:VEVENT
DTSTART;TZID=America/New_York:20260720T183000
DTEND;TZID=America/New_York:20260720T193000
DTSTAMP:20260422T142130
CREATED:20260105T200409Z
LAST-MODIFIED:20260105T200409Z
UID:10000429-1784572200-1784575800@colonievillage.gov
SUMMARY:Village Board Meeting
DESCRIPTION:The Mayor and the Board of Trustees meet to go over Village issues\, policies\, local laws and resident input. All are welcome to attend.
URL:https://colonievillage.gov/event/village-board-meeting-2/2026-07-20/
LOCATION:The Village Hall\, 2 Thunder Road\, Albany\, NY\, 12205\, United States
CATEGORIES:Mayor/ Board Trustee Meeting
END:VEVENT
BEGIN:VEVENT
DTSTART;TZID=America/New_York:20260721T183000
DTEND;TZID=America/New_York:20260721T183000
DTSTAMP:20260422T142130
CREATED:20260105T194443Z
LAST-MODIFIED:20260105T194503Z
UID:10000009-1784658600-1784658600@colonievillage.gov
SUMMARY:Planning Commission Meeting
DESCRIPTION:The Village of Colonie Planning Commission is made up of a 7 member Commission of Village residents. The Planning Commission is the authorizing body and empowered to approve all plans\, plots and plats of any subdivision of lands showing lots\, blocks or site\, with or without new streets or highways in the Village of Colonie. The Commission is responsible for approving or disproving any new owners and tenants within the Village and to preserve the health\, safety and welfare of the community.
URL:https://colonievillage.gov/event/planning-commission-meeting-2/2026-07-21/
LOCATION:The Village Hall\, 2 Thunder Road\, Albany\, NY\, 12205\, United States
CATEGORIES:Planning Commission
END:VEVENT
BEGIN:VEVENT
DTSTART;TZID=America/New_York:20260723T183000
DTEND;TZID=America/New_York:20260723T193000
DTSTAMP:20260422T142130
CREATED:20260105T195814Z
LAST-MODIFIED:20260105T195845Z
UID:10000249-1784831400-1784835000@colonievillage.gov
SUMMARY:Village Sign Review Board
DESCRIPTION:The Sign Review Board is made up of a 5 member Board of Village residents. The purpose of this Board is to provide a process by which special exemption sign permits may be issued consistent with the intent of the special exemption sign permit regulations set forth in the Village of Colonie Code book. The Board hears any appeals on questions of alleged error in any order or determination of the Building Department involving the interpretation of the provisions of the Village of Colonie Code.
URL:https://colonievillage.gov/event/village-sign-review-board/2026-07-23/
LOCATION:The Village Hall\, 2 Thunder Road\, Albany\, NY\, 12205\, United States
CATEGORIES:Sign Review Board
END:VEVENT
BEGIN:VEVENT
DTSTART;TZID=America/New_York:20260803T183000
DTEND;TZID=America/New_York:20260803T193000
DTSTAMP:20260422T142130
CREATED:20260105T200233Z
LAST-MODIFIED:20260105T200233Z
UID:10000310-1785781800-1785785400@colonievillage.gov
SUMMARY:Village Board Meeting
DESCRIPTION:The Mayor and the Board of Trustees meet to go over Village issues\, policies\, local laws and resident input. All are welcome to attend.
URL:https://colonievillage.gov/event/village-board-meeting/2026-08-03/
LOCATION:The Village Hall\, 2 Thunder Road\, Albany\, NY\, 12205\, United States
CATEGORIES:Mayor/ Board Trustee Meeting
END:VEVENT
BEGIN:VEVENT
DTSTART;TZID=America/New_York:20260804T183000
DTEND;TZID=America/New_York:20260804T193000
DTSTAMP:20260422T142130
CREATED:20260105T194323Z
LAST-MODIFIED:20260105T195126Z
UID:10000130-1785868200-1785871800@colonievillage.gov
SUMMARY:Planning Commission Meeting
DESCRIPTION:The Village of Colonie Planning Commission is made up of a 7 member Commission of Village residents. The Planning Commission is the authorizing body and empowered to approve all plans\, plots and plats of any subdivision of lands showing lots\, blocks or site\, with or without new streets or highways in the Village of Colonie. The Commission is responsible for approving or disproving any new owners and tenants within the Village and to preserve the health\, safety and welfare of the community.
URL:https://colonievillage.gov/event/planning-commission-meeting/2026-08-04/
LOCATION:The Village Hall\, 2 Thunder Road\, Albany\, NY\, 12205\, United States
CATEGORIES:Planning Commission
END:VEVENT
BEGIN:VEVENT
DTSTART;TZID=America/New_York:20260805T183000
DTEND;TZID=America/New_York:20260805T193000
DTSTAMP:20260422T142130
CREATED:20260105T195551Z
LAST-MODIFIED:20260105T195551Z
UID:10000189-1785954600-1785958200@colonievillage.gov
SUMMARY:Village Zoning Board of Appeals
DESCRIPTION:The Zoning Board of Appeals is made up of a 5 member Board of Village residents. The Zoning Board of Appeals is the authorizing body to determine whether to grant or deny variance applications. The ZBA balances the hardship to the application\, the community and other persons of not granting the variance against the adverse impact on the health\, safety and welfare of persons affected\, the adverse impact on the property affected and any other adverse impacts of granting the special variance.
URL:https://colonievillage.gov/event/village-zoning-board-of-appeals/2026-08-05/
LOCATION:The Village Hall\, 2 Thunder Road\, Albany\, NY\, 12205\, United States
CATEGORIES:Zoning Board of Appeals
END:VEVENT
BEGIN:VEVENT
DTSTART;TZID=America/New_York:20260813T183000
DTEND;TZID=America/New_York:20260813T193000
DTSTAMP:20260422T142130
CREATED:20260105T194629Z
LAST-MODIFIED:20260105T195236Z
UID:10000070-1786645800-1786649400@colonievillage.gov
SUMMARY:Traffic Advisory Committee Meeting
DESCRIPTION:The Traffic Advisory Committee is made up of a 5 member Committee of Village residents. The Traffic Advisory Committee reviews and discusses matters raised by Village Residents and advises the Mayor and Board Trustees of possible solutions.
URL:https://colonievillage.gov/event/traffic-advisory-committee-meeting/2026-08-13/
LOCATION:The Village Hall\, 2 Thunder Road\, Albany\, NY\, 12205\, United States
CATEGORIES:Traffic Advisory
END:VEVENT
BEGIN:VEVENT
DTSTART;TZID=America/New_York:20260817T183000
DTEND;TZID=America/New_York:20260817T193000
DTSTAMP:20260422T142130
CREATED:20260105T200409Z
LAST-MODIFIED:20260105T200409Z
UID:10000430-1786991400-1786995000@colonievillage.gov
SUMMARY:Village Board Meeting
DESCRIPTION:The Mayor and the Board of Trustees meet to go over Village issues\, policies\, local laws and resident input. All are welcome to attend.
URL:https://colonievillage.gov/event/village-board-meeting-2/2026-08-17/
LOCATION:The Village Hall\, 2 Thunder Road\, Albany\, NY\, 12205\, United States
CATEGORIES:Mayor/ Board Trustee Meeting
END:VEVENT
BEGIN:VEVENT
DTSTART;TZID=America/New_York:20260818T183000
DTEND;TZID=America/New_York:20260818T183000
DTSTAMP:20260422T142130
CREATED:20260105T194443Z
LAST-MODIFIED:20260105T194503Z
UID:10000010-1787077800-1787077800@colonievillage.gov
SUMMARY:Planning Commission Meeting
DESCRIPTION:The Village of Colonie Planning Commission is made up of a 7 member Commission of Village residents. The Planning Commission is the authorizing body and empowered to approve all plans\, plots and plats of any subdivision of lands showing lots\, blocks or site\, with or without new streets or highways in the Village of Colonie. The Commission is responsible for approving or disproving any new owners and tenants within the Village and to preserve the health\, safety and welfare of the community.
URL:https://colonievillage.gov/event/planning-commission-meeting-2/2026-08-18/
LOCATION:The Village Hall\, 2 Thunder Road\, Albany\, NY\, 12205\, United States
CATEGORIES:Planning Commission
END:VEVENT
BEGIN:VEVENT
DTSTART;TZID=America/New_York:20260827T183000
DTEND;TZID=America/New_York:20260827T193000
DTSTAMP:20260422T142130
CREATED:20260105T195814Z
LAST-MODIFIED:20260105T195845Z
UID:10000250-1787855400-1787859000@colonievillage.gov
SUMMARY:Village Sign Review Board
DESCRIPTION:The Sign Review Board is made up of a 5 member Board of Village residents. The purpose of this Board is to provide a process by which special exemption sign permits may be issued consistent with the intent of the special exemption sign permit regulations set forth in the Village of Colonie Code book. The Board hears any appeals on questions of alleged error in any order or determination of the Building Department involving the interpretation of the provisions of the Village of Colonie Code.
URL:https://colonievillage.gov/event/village-sign-review-board/2026-08-27/
LOCATION:The Village Hall\, 2 Thunder Road\, Albany\, NY\, 12205\, United States
CATEGORIES:Sign Review Board
END:VEVENT
END:VCALENDAR